BEGIN:VCALENDAR
VERSION:2.0
PRODID:www.stappen-shoppen.nl
BEGIN:VEVENT
UID:stappen-shoppen.nl/entity/681d6403c93fc5aac4c0bf70
DTSTAMP:20260420T052035Z
ORGANIZER;CN=:MAILTO:info@denobelaer.nl 
DTSTART:20260516T181500Z
DTEND:20260516T201500Z
URL:https://testsite.stappen-shoppen.nl/ical/681d6403c93fc5aac4c0bf70
SUMMARY:Dana Winner
DESCRIPTION:Dana Winner komt terug naar Etten-Leur met een nieuw en intiem concert waarin ze op zoek gaat naar wat jouw hart doet stromen. Laat je meevoeren door pure muziek en beleef een onvergetelijke avond\, dichterbij Dana dan ooit tevoren.…
END:VEVENT
END:VCALENDAR

