BEGIN:VCALENDAR
VERSION:2.0
PRODID:www.stappen-shoppen.nl
BEGIN:VEVENT
UID:stappen-shoppen.nl/entity/681d6405c93fc5aac4c0c053
DTSTAMP:20260420T051412Z
ORGANIZER;CN=:MAILTO:info@denobelaer.nl 
DTSTART:20260503T120000Z
DTEND:20260503T160000Z
URL:https://testsite.stappen-shoppen.nl/ical/681d6405c93fc5aac4c0c053
SUMMARY:Poppodium Sessions
DESCRIPTION:Ontdek nieuwe lokale bands op zondagmiddag in De LizZ die voor deze gelegenheid is omgedoopt tot een gezellige huiskamer. Geheel gratis ben jij erbij\, dus schuif gezellig aan! …
END:VEVENT
END:VCALENDAR

