BEGIN:VCALENDAR
VERSION:2.0
PRODID:www.stappen-shoppen.nl
BEGIN:VEVENT
UID:stappen-shoppen.nl/entity/684cda5fc93fc5aac4799570
DTSTAMP:20260420T051701Z
ORGANIZER;CN=:MAILTO:info@denobelaer.nl 
DTSTART:20260419T130000Z
DTEND:20260420T040000Z
URL:https://testsite.stappen-shoppen.nl/ical/684cda5fc93fc5aac4799570
SUMMARY:Young Talent Orchestra
DESCRIPTION:De magie van live muziek\, de passie van jonge talenten en een programma vol meeslepende meesterwerken – dat is wat je kunt verwachten bij het concert van het Young Talent Orchestra!…
END:VEVENT
END:VCALENDAR

