BEGIN:VCALENDAR
VERSION:2.0
PRODID:www.stappen-shoppen.nl
BEGIN:VEVENT
UID:stappen-shoppen.nl/entity/68688990c93fc5aac408bf49
DTSTAMP:20260420T051132Z
ORGANIZER;CN=:MAILTO:info@denobelaer.nl 
DTSTART:20260506T090000Z
DTEND:20260506T100000Z
URL:https://testsite.stappen-shoppen.nl/ical/68688990c93fc5aac408bf49
SUMMARY:Taalspreekuur
DESCRIPTION:Wil je beter Nederlands lezen\, schrijven of spreken? Kom dan naar het Taalspreekuur. Je krijgt uitleg over welke cursus het beste bij je past. Het Taalspreekuur is voor volwassenen vanaf 18 jaar\, die graag Nederlands willen leren. Elke woensdag van 11:00…
END:VEVENT
END:VCALENDAR

