BEGIN:VCALENDAR
VERSION:2.0
PRODID:www.stappen-shoppen.nl
BEGIN:VEVENT
UID:stappen-shoppen.nl/entity/69a946163a3b0912390dce06
DTSTAMP:20260423T055705Z
ORGANIZER;CN=:MAILTO:
DTSTART:20261015T173000Z
DTEND:20261015T210000Z
URL:https://testsite.stappen-shoppen.nl/ical/69a946163a3b0912390dce06
SUMMARY:The Reverend Peyton's Big Damn Band
DESCRIPTION:The Reverend Peyton's Big Damn Band in MEZZ
END:VEVENT
END:VCALENDAR

