BEGIN:VCALENDAR
VERSION:2.0
PRODID:www.stappen-shoppen.nl
BEGIN:VEVENT
UID:stappen-shoppen.nl/entity/69be0c18212404a18c56950a
DTSTAMP:20260420T052158Z
ORGANIZER;CN=:MAILTO:info@denobelaer.nl 
DTSTART:20260504T120000Z
DTEND:20260504T140000Z
URL:https://testsite.stappen-shoppen.nl/ical/69be0c18212404a18c56950a
SUMMARY:Digi-inloopspreekuur
DESCRIPTION:Tijdens het spreekuur Digi-inloop helpt een vrijwilliger bij digitale vragen\, hoe groot of klein ook.Wekelijks op maandag van 14:00 – 16:00 uur.Niet tijdens schoolvakanties. …
END:VEVENT
END:VCALENDAR

