BEGIN:VCALENDAR
VERSION:2.0
PRODID:www.stappen-shoppen.nl
BEGIN:VEVENT
UID:stappen-shoppen.nl/entity/69ca2d983416a3e12b023bbc
DTSTAMP:20260423T055533Z
ORGANIZER;CN=:MAILTO:
DTSTART:20261121T183000Z
DTEND:20261121T220000Z
URL:https://testsite.stappen-shoppen.nl/ical/69ca2d983416a3e12b023bbc
SUMMARY:Electric Six
DESCRIPTION:
END:VEVENT
END:VCALENDAR

