BEGIN:VCALENDAR
VERSION:2.0
PRODID:www.stappen-shoppen.nl
BEGIN:VEVENT
UID:stappen-shoppen.nl/entity/69ce2bfc796acc9f33087468
DTSTAMP:20260422T172400Z
ORGANIZER;CN=:MAILTO:
DTSTART:20260402T083900Z
DTEND:20260503T172100Z
URL:https://testsite.stappen-shoppen.nl/ical/69ce2bfc796acc9f33087468
SUMMARY:Nieuw Menu del mese
DESCRIPTION:
END:VEVENT
END:VCALENDAR

