BEGIN:VCALENDAR
VERSION:2.0
PRODID:www.stappen-shoppen.nl
BEGIN:VEVENT
UID:stappen-shoppen.nl/entity/69e87f66aeaf83d3c5047caa
DTSTAMP:20260423T055349Z
ORGANIZER;CN=:MAILTO:info@mezz.nl
DTSTART:20261217T183000Z
DTEND:20261217T220000Z
URL:https://testsite.stappen-shoppen.nl/ical/69e87f66aeaf83d3c5047caa
SUMMARY:Lézard in MEZZ
DESCRIPTION:De band uit Gent bezingt de ondergang van de wereld in dansbare discopunk.
END:VEVENT
END:VCALENDAR

